BEGIN:VCALENDAR
VERSION:2.0
PRODID:gruene-neckar-bergstrasse.de
METHOD:PUBLISH
BEGIN:VTIMEZONE
TZID:Europe/Berlin
X-LIC-LOCATION:Europe/Berlin
BEGIN:DAYLIGHT
TZOFFSETFROM:+0100
TZOFFSETTO:+0200
TZNAME:CEST
DTSTART:19700329T020000
RRULE:FREQ=YEARLY;INTERVAL=1;BYDAY=-1SU;BYMONTH=3
END:DAYLIGHT
BEGIN:STANDARD
TZOFFSETFROM:+0200
TZOFFSETTO:+0100
TZNAME:CET
DTSTART:19701025T030000
RRULE:FREQ=YEARLY;INTERVAL=1;BYDAY=-1SU;BYMONTH=10
END:STANDARD
END:VTIMEZONE
BEGIN:VEVENT
UID:6d794ffacece79493623391045695207@gruene-neckar-bergstrasse.de
URL;VALUE=URI:https://gruene-neckar-bergstrasse.de/termine/neujahrsempfan
 g-2026/
LOCATION:Martin-Luther-Haus, Am Kronenburger Hof 6, 69221 Dossenheim
SUMMARY:Neujahrsempfang 2026
DESCRIPTION;ALTREP="data:text/html,%0A%3Cp%3EUnser%20Neujahrsempfang%20l%
 C3%A4utet%20nicht%20nur%20das%20Jahr%202026%20sondern%20auch%20den%20Land
 tagswahlkampf%202%C3%9626%20ein.%20Wir%20freuen%20uns%20besonders%2C%20da
 ss%20wir%20neben%20unserer%20Kreisvorsitzenden%20und%20Landtagsabgeordnet
 en%20Fadime%20Tuncer%20auch%20unsere%20Bundesvorsitzende%20Dr.%20Franzisk
 a%20Brantner%20MdB%20sowie%20die%20baden-w%C3%BCrttembergische%20Minister
 in%20f%C3%BCr%20Umwelt%2C%20Klima%20und%20Energiewirtschaft%20Thekla%20Wa
 lker%20MdL%20bei%20uns%20begr%C3%BC%C3%9Fen%20d%C3%BCrfen.%3C%2Fp%3E%0A%0
 A%0A%0A%3Cp%3EF%C3%BCr%20das%20leibliche%20Wohl%20ist%20gesorgt%20-%20%C3
 %BCber%20eine%20kleine%20Spende%20freuen%20wir%20uns.%20%3C%2Fp%3E%0A%0A%
 0A%0A%3Cp%3EEinlass%20ab%2018.00%20Uhr.%20%3C%2Fp%3E%0A":Unser Neujahrsem
 pfang läutet nicht nur das Jahr 2026 sondern auch den Landtagswahlkampf 
 2Ö26 ein. Wir freuen uns besonders\, dass wir neben unserer Kreisvorsitz
 enden und Landtagsabgeordneten Fadime Tuncer auch unsere Bundesvorsitzend
 e Dr. Franziska Brantner MdB sowie die baden-württembergische Ministerin
  für Umwelt\, Klima und Energiewirtschaft Thekla Walker MdL bei uns begr
 üßen dürfen.\n\nFür das leibliche Wohl ist gesorgt - über eine klein
 e Spende freuen wir uns.\n\nEinlass ab 18.00 Uhr.
CLASS:PUBLIC
DTSTART;TZID=Europe/Berlin:20260110T183000
DTEND;TZID=Europe/Berlin:20260110T193000
DTSTAMP:20260421T101717
END:VEVENT
END:VCALENDAR